BEGIN:VCALENDAR
VERSION:2.0
PRODID:-//Daniel//OpenClaw//EN
BEGIN:VEVENT
UID:2026-04-23-1400-企業AI人才培育@itn.tw
DTSTAMP:20260422T085200Z
DTSTART:20260423T140000Z
DTEND:20260423T150000Z
SUMMARY:企業AI人才培育｜最高可獲15萬元輔導款
DESCRIPTION:企業AI人才培育說明會\\n最高可獲15萬元輔導款\\n\\n視訊會議連結：https://meet.google.com/bzm-dpxv-mgc
LOCATION:https://meet.google.com/bzm-dpxv-mgc
STATUS:CONFIRMED
BEGIN:VALARM
TRIGGER:-PT10M
ACTION:DISPLAY
DESCRIPTION:企業AI人才培育｜最高可獲15萬元輔導款
END:VALARM
END:VEVENT
END:VCALENDAR
